BEGIN:VCALENDAR
VERSION:2.0
PRODID:-//EventsBCN//Event Calendar//EN
CALSCALE:GREGORIAN
METHOD:PUBLISH
BEGIN:VEVENT
UID:d0fa4e18d1fbecb53e6e99f0ababa2f4@eventsbcn.es
DTSTAMP:20260420T125946Z
DTSTART:20251112T190000Z
DTEND:20251112T233000Z
SUMMARY:LA Lom
LOCATION:Apolo
URL:https://eventsbcn.es/events/la-lom_2025-11-12/
END:VEVENT
END:VCALENDAR
